BEGIN:VCALENDAR
VERSION:2.0
PRODID:-//ArabishWay - ECPv6.15.20//NONSGML v1.0//EN
CALSCALE:GREGORIAN
METHOD:PUBLISH
X-WR-CALNAME:ArabishWay
X-ORIGINAL-URL:https://arabishway.com
X-WR-CALDESC:Events for ArabishWay
REFRESH-INTERVAL;VALUE=DURATION:PT1H
X-Robots-Tag:noindex
X-PUBLISHED-TTL:PT1H
BEGIN:VTIMEZONE
TZID:America/Los_Angeles
BEGIN:DAYLIGHT
TZOFFSETFROM:-0800
TZOFFSETTO:-0700
TZNAME:PDT
DTSTART:20240310T100000
END:DAYLIGHT
BEGIN:STANDARD
TZOFFSETFROM:-0700
TZOFFSETTO:-0800
TZNAME:PST
DTSTART:20241103T090000
END:STANDARD
BEGIN:DAYLIGHT
TZOFFSETFROM:-0800
TZOFFSETTO:-0700
TZNAME:PDT
DTSTART:20250309T100000
END:DAYLIGHT
BEGIN:STANDARD
TZOFFSETFROM:-0700
TZOFFSETTO:-0800
TZNAME:PST
DTSTART:20251102T090000
END:STANDARD
BEGIN:DAYLIGHT
TZOFFSETFROM:-0800
TZOFFSETTO:-0700
TZNAME:PDT
DTSTART:20260308T100000
END:DAYLIGHT
BEGIN:STANDARD
TZOFFSETFROM:-0700
TZOFFSETTO:-0800
TZNAME:PST
DTSTART:20261101T090000
END:STANDARD
END:VTIMEZONE
BEGIN:VEVENT
DTSTART;VALUE=DATE:20250507
DTEND;VALUE=DATE:20250512
DTSTAMP:20260420T034952
CREATED:20250326T205856Z
LAST-MODIFIED:20250326T211330Z
UID:10002932-1746576000-1747007999@arabishway.com
SUMMARY:Arab Film Festival (some virtual)
DESCRIPTION:Wednesday\, May 7 – Sunday\, May 11\, 2025\nAANM’s Arab Film Festival\nAANM proudly hosts the annual Arab Film Festival (AFF) featuring the best of critically acclaimed and award-winning Arab American and Arab world films\, many of which are unlikely to reach traditional American commercial theaters and often make their regional or national debut at AFF. This year\, the festival will take place virtually and in-person. \nAFF showcases Arab and Arab American films for fans of Arabic-language movies and adventurous art-film lovers seeking new perspectives and outside-the-box thinking. We pride ourselves on creating a safe space\, a platform for Arab and Arab American films and filmmakers and to give a voice to Arab and Arab American artists and their stories. \nBecome a sponsor of AFF\nONLINE SPONSORSHIP  |  DOWNLOAD SPONSORSHIP FORM
URL:https://arabishway.com/event/18584/
LOCATION:Virtual
CATEGORIES:Movie
ATTACH;FMTTYPE=image/webp:https://arabishway.com/wp-content/uploads/2025/03/AFF-2025-05-2048x1152-1.webp
END:VEVENT
BEGIN:VEVENT
DTSTART;TZID=America/Los_Angeles:20250509T160000
DTEND;TZID=America/Los_Angeles:20250509T180000
DTSTAMP:20260420T034952
CREATED:20250430T220843Z
LAST-MODIFIED:20250430T220908Z
UID:10003078-1746806400-1746813600@arabishway.com
SUMMARY:Movie: The Encampments
DESCRIPTION:THE ENCAMPMENTS follows student organizers at some of the world’s most prestigious universities as they take a historic stand against their institutions’ investments in the ongoing genocide in Gaza\, igniting one of the largest student movements in history which continues to have far-reaching effects on US and world policies today. \nFilmed on the ground and in real-time as these events were unfolding\, THE ENCAMPMENTS features detained student activist Mahmoud Khalil and takes viewers inside America’s student uprising with incredible intimacy and urgency. Professors\, whistleblowers from inside Ivy League administrations\, and student activists shed light on a moment that captivated the nation’s attention and continues to make headlines today. \n“What makes THE ENCAMPMENTS artistically triumphant is its sense of contemporary and historical detail\, owed to both footage shot by the filmmakers\, as well as by the protesters themselves. In the process\, co-directors Kei Pritsker and Michael T. Workman craft a work of cinema that’s as rigorously journalistic in its arguments as it is nakedly sentimental.” – IndieWire \n“This is more than a student protest—it’s a generational struggle for justice. Students have always led the charge for justice\, from the sit-ins of the Civil Rights Movement to the campus protests against South African apartheid. The encampments that started at Columbia are part of that legacy\, inspiring millions of people around the world. The film ensures the students in US and Gaza are heard\, their actions are remembered\, and the fight for Palestinian liberation continues.” – Macklemore \n“Khalil remains detained at an ICE facility in Louisiana amid a legal battle to prevent his deportation from the U.S. after the Trump administration ordered his removal… The legal challenge to Khalil might ultimately come down to the Supreme Court\, which would decide how far the secretary of state can determine whether a permanent resident can be removed for speech.” – Axios
URL:https://arabishway.com/event/movie-the-encampments-4/
LOCATION:The Beacon\, 4405 Rainier Ave S\, Seattle\, WA\, 98118\, United States
CATEGORIES:Movie
ATTACH;FMTTYPE=image/png:https://arabishway.com/wp-content/uploads/2025/03/TB_THE_ENCAMPMENTS.png
END:VEVENT
BEGIN:VEVENT
DTSTART;TZID=America/Los_Angeles:20250509T163000
DTEND;TZID=America/Los_Angeles:20250509T183000
DTSTAMP:20260420T034953
CREATED:20250430T183615Z
LAST-MODIFIED:20250430T183926Z
UID:10003047-1746808200-1746815400@arabishway.com
SUMMARY:Movie: No Other Land: SIFF
DESCRIPTION:For half a decade\, Basel Adra\, a Palestinian activist\, films his community of Masafer Yatta being destroyed by Israel’s occupation\, as he builds an unlikely alliance with an Israeli journalist who wants to join his fight. \n\n\n\nDirector:Basel Adra\, Hamdan Ballal\, Yuval Abraham\, Rachel Szor\nCountry:Palestine\, Norway\nRunning Time:95 min.\nProducer:Fabien Greenberg\, Bård Kjøge Rønning\nCinematographers:Rachel Szor\nEditors:Basel Adra\, Hamdan Ballal\, Yuval Abraham\, Rachel Szor\nMusic:Julius Pollux Rothlaender\nLanguage:Arabic\, Hebrew\, English\nUS Distributor:Cintetic Handling \nInternational Sales:Autlook\n\n\n\nTICKETS\nOther showtimes: \n\n\n\n\n\n\n\n\n\n\n\n\n\n\n\n\n\nFRIDAY\, MAY 9\, 2025\, SIFF Cinema Uptown\n\n\n\n\n\n\n\n\n\n\n7:30 PM\n\n\n\n\n\n\n\n\n  \nSATURDAY\, MAY 10\, 2025\, SIFF Cinema Uptown \n\n\n\n\n\n\n1:30 PM4:30 PM7:30 PM\n\n\n\n\n\n\n\n\n  \nSUNDAY\, MAY 11\, 2025\, SIFF Cinema Uptown \n\n\n\n\n\n\n4:30 PM7:30 PM\n\n\n\n\n\n\n\n\n\n\n\n\n 
URL:https://arabishway.com/event/no-other-land-siff-may-9/
LOCATION:SIFF Cinema Uptown\, 511 Queen Anne Ave N\,\, Seattle\, WA\, 98109\, United States
CATEGORIES:Movie
ATTACH;FMTTYPE=image/png:https://arabishway.com/wp-content/uploads/2025/01/Screenshot-2025-01-29-at-7.14.56 PM.png
END:VEVENT
BEGIN:VEVENT
DTSTART;TZID=America/Los_Angeles:20250509T170000
DTEND;TZID=America/Los_Angeles:20250509T210000
DTSTAMP:20260420T034953
CREATED:20250430T175031Z
LAST-MODIFIED:20250430T175052Z
UID:10003030-1746810000-1746824400@arabishway.com
SUMMARY:Ya Hala Cafe and Retail Space: T'faddlu Game Night
DESCRIPTION:Game Night \nMusic \nCafe \nRemember\, Ya Hala’s café and retail space is open to all \n📣 IMPORTANT: Some events will require registration/RSVP so you can save a spot! \nTake a look ahead at the calendar and then keep an eye out for links to sign up for specific events. You won’t want to miss out. \nMore details about each weekend’s events will drop on the Monday before. 👀
URL:https://arabishway.com/event/ya-hala-game-night-2/
LOCATION:Suzanne Zahr\, Art & Architecture\, 2441 76th Ave SE\, Ste 160\, Mercer Island\, WA\, 98040\, United States
CATEGORIES:Cooking/Food,Games,Gathering
ATTACH;FMTTYPE=image/png:https://arabishway.com/wp-content/uploads/2025/03/Screenshot-2025-04-30-at-9.26.29 AM.png
END:VEVENT
BEGIN:VEVENT
DTSTART;TZID=America/Los_Angeles:20250509T193000
DTEND;TZID=America/Los_Angeles:20250509T213000
DTSTAMP:20260420T034953
CREATED:20250430T184549Z
LAST-MODIFIED:20250430T184623Z
UID:10003048-1746819000-1746826200@arabishway.com
SUMMARY:Movie: No Other Land: SIFF
DESCRIPTION:For half a decade\, Basel Adra\, a Palestinian activist\, films his community of Masafer Yatta being destroyed by Israel’s occupation\, as he builds an unlikely alliance with an Israeli journalist who wants to join his fight. \n\n\n\nDirector:Basel Adra\, Hamdan Ballal\, Yuval Abraham\, Rachel Szor\nCountry:Palestine\, Norway\nRunning Time:95 min.\nProducer:Fabien Greenberg\, Bård Kjøge Rønning\nCinematographers:Rachel Szor\nEditors:Basel Adra\, Hamdan Ballal\, Yuval Abraham\, Rachel Szor\nMusic:Julius Pollux Rothlaender\nLanguage:Arabic\, Hebrew\, English\nUS Distributor:Cintetic Handling \nInternational Sales:Autlook\n\n\n\nTICKETS\nOther showtimes: \n\n\n\n\n\n\nSATURDAY\, MAY 10\, 2025\, SIFF Cinema Uptown \n\n\n\n\n\n\n1:30 PM4:30 PM7:30 PM\n\n\n\n\n\n\n\n\n  \nSUNDAY\, MAY 11\, 2025\, SIFF Cinema Uptown \n\n\n\n\n\n\n4:30 PM7:30 PM\n\n\n\n\n\n\n\n\n\n\n\n\n 
URL:https://arabishway.com/event/no-other-land-siff-may-9b/
LOCATION:SIFF Cinema Uptown\, 511 Queen Anne Ave N\,\, Seattle\, WA\, 98109\, United States
CATEGORIES:Movie
ATTACH;FMTTYPE=image/png:https://arabishway.com/wp-content/uploads/2025/01/Screenshot-2025-01-29-at-7.14.56 PM.png
END:VEVENT
END:VCALENDAR