BEGIN:VCALENDAR
VERSION:2.0
PRODID:-//ArabishWay - ECPv6.15.20//NONSGML v1.0//EN
CALSCALE:GREGORIAN
METHOD:PUBLISH
X-ORIGINAL-URL:https://arabishway.com
X-WR-CALDESC:Events for ArabishWay
REFRESH-INTERVAL;VALUE=DURATION:PT1H
X-Robots-Tag:noindex
X-PUBLISHED-TTL:PT1H
BEGIN:VTIMEZONE
TZID:America/Los_Angeles
BEGIN:DAYLIGHT
TZOFFSETFROM:-0800
TZOFFSETTO:-0700
TZNAME:PDT
DTSTART:20200308T100000
END:DAYLIGHT
BEGIN:STANDARD
TZOFFSETFROM:-0700
TZOFFSETTO:-0800
TZNAME:PST
DTSTART:20201101T090000
END:STANDARD
BEGIN:DAYLIGHT
TZOFFSETFROM:-0800
TZOFFSETTO:-0700
TZNAME:PDT
DTSTART:20210314T100000
END:DAYLIGHT
BEGIN:STANDARD
TZOFFSETFROM:-0700
TZOFFSETTO:-0800
TZNAME:PST
DTSTART:20211107T090000
END:STANDARD
BEGIN:DAYLIGHT
TZOFFSETFROM:-0800
TZOFFSETTO:-0700
TZNAME:PDT
DTSTART:20220313T100000
END:DAYLIGHT
BEGIN:STANDARD
TZOFFSETFROM:-0700
TZOFFSETTO:-0800
TZNAME:PST
DTSTART:20221106T090000
END:STANDARD
BEGIN:DAYLIGHT
TZOFFSETFROM:-0800
TZOFFSETTO:-0700
TZNAME:PDT
DTSTART:20230312T100000
END:DAYLIGHT
BEGIN:STANDARD
TZOFFSETFROM:-0700
TZOFFSETTO:-0800
TZNAME:PST
DTSTART:20231105T090000
END:STANDARD
END:VTIMEZONE
BEGIN:VTIMEZONE
TZID:UTC
BEGIN:STANDARD
TZOFFSETFROM:+0000
TZOFFSETTO:+0000
TZNAME:UTC
DTSTART:20200101T000000
END:STANDARD
END:VTIMEZONE
BEGIN:VEVENT
DTSTART;VALUE=DATE:20211002
DTEND;VALUE=DATE:20220207
DTSTAMP:20260422T101619
CREATED:20210928T215814Z
LAST-MODIFIED:20210929T193606Z
UID:10001050-1633132800-1644191999@arabishway.com
SUMMARY:Diana Al-Hadid: Archive of Longings:  Exhibition at the Henry Art Gallery
DESCRIPTION:Diana Al-Hadid’s work explores the interplay between the female body and the European art canon; Syrian\, Muslim\, and immigrant histories and mythologies; and architectural icons and the natural world. Born in 1981 in Aleppo\, Syria\, and raised in Cleveland\, Ohio\, Al-Hadid creates artworks that speak to her interest in the melding of cultures and the translation of disparate narratives. This monographic exhibition will consist of a selection of 13 sculptural works made between 2010 and 2021 brought into interpretive grouping for the first time. Together the sculptures identify the artist’s investigation of historical\, mythological\, and biblical narratives of women as a fundamental through-line of her practice.\nWhile Al-Hadid’s work is often interpreted primarily in relation to her interest in the art historical canon\, this show situates the artist’s deployment of these influences as advancing a network of feminist concerns: the female protagonist and its conflicted history\, as well as women’s agency\, power\, and identity. The title refers to the artist’s ongoing interest in the incomplete nature of collective history and the palimpsest of narrative and information that constructs our sense of history; it also resists the monumentalizing (and ultimately\, patriarchal and colonialist) idea of fixity and singularity. Instead\, Al-Hadid foregrounds disruption and rupture in the endlessly woven fabric of our stories of self/the body\, the migration of information and interpretation through space and time\, and the fundamentally unfixed nature of human desire.\nThe exhibition is held in conjunction with the Feminist Art Coalition (FAC)\, a nationwide initiative of art projects that seek to generate cultural awareness of feminist thought\, experience\, and action.\nA brochure with a curatorial essay\, alongside installation images\, will accompany the exhibition.
URL:https://arabishway.com/event/exhibition-diana-al-hadid/
LOCATION:Henry Art Gallery\, 15th Avenue NE + NE 41st Street\, Seattle\, WA\, 98195\, United States
CATEGORIES:Art
ATTACH;FMTTYPE=image/jpeg:https://arabishway.com/wp-content/uploads/2021/09/Diana-Al-Hadid.jpeg
END:VEVENT
BEGIN:VEVENT
DTSTART;VALUE=DATE:20211101
DTEND;VALUE=DATE:20220101
DTSTAMP:20260422T101619
CREATED:20211029T195225Z
LAST-MODIFIED:20211029T195319Z
UID:10001113-1635724800-1640995199@arabishway.com
SUMMARY:Tatreez Workshops and Lectures by Tatreez and Tea  - Ongoing
DESCRIPTION:Your instructor is author and scholar Wafa Ghnaim\, founder of Tatreez & Tea! \nTatreez & Tea’s mission is to preserve Palestinian embroidery and storytelling traditions in the diaspora. Tatreez & Tea is the first of it’s kind. When Wafa first founded Tatreez & Tea in 2016\, she was the only educator solely focused on Palestinian embroidery\, traveling the US and the world. Now\, new local initiatives\, culture bearers\, “tatreez circles”\, and mentors are emerging from communities around the world like never before. The tatreez revolution has gained a beautiful momentum and now is the time to join. \nWafa’s goal in her educational classes are three-fold: educate students from art history and oral history perspectives that preserve the meanings\, stories and symbolism of traditional Palestinian embroidery motifs; teach versatile skills that allow students to eventually produce large independent projects; encourage students to become creative and grow beyond simply abiding by traditional embroidery principles. \nClick here for upcoming events! \nhttps://www.tatreezandtea.com/events
URL:https://arabishway.com/event/tatreez-workshops-and-lectures-by-tatreez-and-tea-nov-2021/
CATEGORIES:Art,Lecture,Workshop
ATTACH;FMTTYPE=image/jpeg:https://arabishway.com/wp-content/uploads/2020/06/Palestine-Museum-Tatreez.jpg
ORGANIZER;CN="Tatreez and Tea":MAILTO:WAFA@TATREEZANDTEA.COM
END:VEVENT
BEGIN:VEVENT
DTSTART;VALUE=DATE:20211110
DTEND;VALUE=DATE:20211120
DTSTAMP:20260422T101619
CREATED:20211026T175744Z
LAST-MODIFIED:20211026T175808Z
UID:10001077-1636502400-1637366399@arabishway.com
SUMMARY:Damascus Dreams at the Toronto Reel Asian Film Festival
DESCRIPTION:Toronto Reel Asian Film Festival and AANM co-present Damascus Dreams as part of #reelasian25. Directed by Émilie Serri\, Damascus Dreams explores and interrogates the fraught notions of dreams\, and memories of “home\,” moving loosely through old video footage and conversations\, and dreamlike sequences. Serri gathers these stories and memories to hold against her own questions about a homeland she does not have access to. This film is available online starting November 10th at 10 AM till November 19th at 7 PM.
URL:https://arabishway.com/event/damascus-dreams-at-the-toronto-reel-asian-film-festival/
CATEGORIES:Movie
ATTACH;FMTTYPE=image/jpeg:https://arabishway.com/wp-content/uploads/2021/10/Damascus_Dreams.jpg
END:VEVENT
BEGIN:VEVENT
DTSTART;VALUE=DATE:20211111
DTEND;VALUE=DATE:20211121
DTSTAMP:20260422T101619
CREATED:20211026T180411Z
LAST-MODIFIED:20211026T180411Z
UID:10001078-1636588800-1637452799@arabishway.com
SUMMARY:Queer Cinema for Palestine
DESCRIPTION:TPFF is one of the coordinators of the inaugural Queer Cinema for Palestine! The festival will run from 11-20 November and host more than a dozen events across five continents\, both online and in person. QCP is a first-time global queer solidarity initiative that offers a vibrant space using art and culture to oppose the ongoing violence of Israeli apartheid. \nThe online program will be hosted on the Toronto Queer Film Festival’s state-of-the-art platform designed with accessibility in mind. Films will be available on demand for the duration of the festival. \nQCP encourages local queer\, Palestine solidarity and anti-racist groups around the world to organize watch parties during the festival. \nThe full QCP program will be announced in early November.
URL:https://arabishway.com/event/queer-cinema-for-palestine/
CATEGORIES:Movie
ATTACH;FMTTYPE=image/jpeg:https://arabishway.com/wp-content/uploads/2021/10/queer_palestine.jpeg
END:VEVENT
BEGIN:VEVENT
DTSTART;VALUE=DATE:20211113
DTEND;VALUE=DATE:20220109
DTSTAMP:20260422T101619
CREATED:20211130T040955Z
LAST-MODIFIED:20211229T165046Z
UID:10001128-1636761600-1641686399@arabishway.com
SUMMARY:Online Art Exhibition: Site Insight
DESCRIPTION:November 13\, 2021—January 8\, 2022 | Online Exhibition \nJames Harris Gallery is pleased to present “Site Insight” an exhibition that explores how artists use and interpret site as a position or location especially as to its environment. This show considers how some artists interpret site in a more literal term while others use it allegorically. The disparate works act like instruments in an orchestra pit. Individually\, they are decisive works but taken in unison they reveal the emotional power works of art can have on a broad range of subjects and human character. Beauty is seen through ugliness and vice versa. All the works enlighten the viewer to the complexity of the world in which we live. The artists included in the show are: Squeak Carnwath\, Claire Cowie\, Fay Jones\, Julie Mehretu\, Jeffry Mitchell\, Mary Ann Peters\, Luke Kempton Williams\, Bing Wright\, and Amir Zaki.
URL:https://arabishway.com/event/online-art-exhibition-site-insight/
CATEGORIES:Art
ATTACH;FMTTYPE=image/jpeg:https://arabishway.com/wp-content/uploads/2021/11/Carnwath_GoodLuck_2003.jpeg
END:VEVENT
BEGIN:VEVENT
DTSTART;TZID=America/Los_Angeles:20211116T090000
DTEND;TZID=America/Los_Angeles:20211116T100000
DTSTAMP:20260422T101619
CREATED:20211029T170208Z
LAST-MODIFIED:20211029T170208Z
UID:10001105-1637053200-1637056800@arabishway.com
SUMMARY:In Conversation: On Conditional Citizens: On Belonging in America
DESCRIPTION:Livestreamed\n\n\n\n\n\n\n\n\nIn Conditional Citizens: On Belonging in America\, Laila Lalami recounts her unlikely journey from Moroccan immigrant to U.S. citizen\, using it as a starting point for her exploration of American rights\, liberties\, and the place of nonwhites in the broader American culture. Moderated by author Marie Arana. \n\nIf you are interested in this event\, please double check time!
URL:https://arabishway.com/event/in-conversation-on-conditional-citizens-on-belonging-in-america/
CATEGORIES:Book Reading,Lecture/Panel Discussion
ATTACH;FMTTYPE=image/png:https://arabishway.com/wp-content/uploads/2020/09/lalami-with-book.png
END:VEVENT
BEGIN:VEVENT
DTSTART;TZID=America/Los_Angeles:20211116T100000
DTEND;TZID=America/Los_Angeles:20211116T110000
DTSTAMP:20260422T101619
CREATED:20211029T195827Z
LAST-MODIFIED:20211029T195827Z
UID:10001114-1637056800-1637060400@arabishway.com
SUMMARY:Unlearn to Relearn: Shifting Attitudes for Arabs with Disabilities
DESCRIPTION:Nadwa (Public Conversation)\n  November 16\, 2021\n\n\nVirtual via Zoom \n\n\n\nDisability? Disabled? Special Needs? What language and framework do/should we use in the Arab Community? Join us for a discussion on disability in the Arab/American community! \nHistorically and traditionally\, people with disabilities across the globe have been systematically excluded and marginalized from all aspects of society. Although perspectives and attitudes about disability have changed in recent decades\, people with disabilities of color continue to face systemic and cultural barriers that deprive this community of accessing quality education and resources that will enable them to become valued members of society. In particular\, people with disabilities among Arab communities\, by large\, continue to face persistent and blatant oppression and barriers from living quality and humane lives. This webinar is the first of its kind. We will explicitly address long-term disability issues that have impacted Arab communities in the United States and the Middle East. The webinar aims to ignite new ways of thinking about disability and how all of us—both disabled and non-disabled alike—can begin to create a better society that promotes the basic principles of independence\, respect and dignity for Arabs with physical\, intellectual\, and mental health disabilities. \nFacilitators: \n\nAdnan Alaboudi\, International Disability Self Advocate\, Jordan\nMarina Salman\, Access Living Chicago\nRanda Abdelrahim\, PhD Candidate Disability Studies\, UIC\n\nReal-time live captioning will be provided. For questions\, additional information\, and/or accessibility contact us at arabamcc@uic.edu \nEvent is co-organized by the Arab American Cultural Center and the Disability Cultural Center \nSpeaker bios: \nAdnan Alaboudi is a person with disabilities (dual bottom amputation above and under the knee). Adnan is the Executive Director of the Landmines Survivors Network from 1999-2008 and a member of the Committee for Drafting of the International Convention on Human Rights with Disability in the United Nations. He is an activist and coach in the field of persons with disabilities and a professional sport in power games\, table tennis\, swimming and water skiing\, and participating in global\, Olympic\, and Arab sports. Adnan is the coordinator of awareness and promotion programs in the Supreme Council for People with Disabilities in Jordan 2009 – 2017. \nMarina Salman serves as the SOAR case manager for the Colbert Transition Program at Access Living Chicago where she helps individuals living in long-term care facilities reintegrate back into their communities after their recovery. She is also involved in numerous advocacy efforts that focus on the intersectionality of race and disability\, which includes healthcare and criminal justice reform. Marina completed her Master’s in Counseling Psychology with a focus in Sport and Health Psychology from Adler University in Chicago. She is an Arab American woman with multiple disabilities who looks to empower Arabs with disabilities to live meaningful lives through the power of education and experience. \nRanda Abdelrahim is a visiting research specialist at the department of disability and human development\, University of Illinois Chicago and a PhD candidate of disability studies. As an Arab American immigrant\, Randa is interested in examining contextual factors of disability across immigrants and minority groups. Her research focuses on how multiple personal and social factors such as gender\, culture\, race\, and income contribute to disparities in accessing health care and disability services for people with disabilities and their caregivers. Her advocacy work includes supporting people with disabilities with a focus on those who identify as Arab. She is currently a member of the Disability and Immigration Taskforce of Illinois.
URL:https://arabishway.com/event/unlearn-to-relearn-shifting-attitudes-for-arabs-with-disabilities/
CATEGORIES:Lecture/Panel Discussion,Social Justice
ATTACH;FMTTYPE=image/png:https://arabishway.com/wp-content/uploads/2021/10/Unlearn-to-Relearn.png
END:VEVENT
BEGIN:VEVENT
DTSTART;TZID=America/Los_Angeles:20211116T150000
DTEND;TZID=America/Los_Angeles:20211116T170000
DTSTAMP:20260422T101619
CREATED:20210929T184141Z
LAST-MODIFIED:20210929T184141Z
UID:10001071-1637074800-1637082000@arabishway.com
SUMMARY:Conversation with Arab American Filmmaker\, Mike Mosallam
DESCRIPTION:Please join us for a conversation with Arab American Producer and Actor\, Mike Mosallam. His latest film is “Breaking Fast” which had its World Premiere in March 2020 and garnered major awards. In addition\, he is the creator and co-Executive Producer of the critically acclaimed “All American Muslim.”\n\nRegister for the event here.
URL:https://arabishway.com/event/conversation-with-arab-american-filmmaker-mike-mosallam/
CATEGORIES:Lecture/Panel Discussion,Movie
ATTACH;FMTTYPE=image/jpeg:https://arabishway.com/wp-content/uploads/2021/02/breaking_bread.jpg
END:VEVENT
BEGIN:VEVENT
DTSTART;TZID=America/Los_Angeles:20211116T170000
DTEND;TZID=America/Los_Angeles:20211116T190000
DTSTAMP:20260422T101619
CREATED:20211028T153955Z
LAST-MODIFIED:20211028T153955Z
UID:10001080-1637082000-1637089200@arabishway.com
SUMMARY:The Almond Blossom Knows Its Life Is Short: Poetry of Palestinian Women in Translation
DESCRIPTION:Description: In this class we will explore a selection of translated poetry by Palestinian women. How do these poets tend to loss? How do they engage with their interiors while living in varying states of siege\, occupation\, or exile? What are their obsessions? Which mythologies do they reject and which others do they remake? Together we’ll read across generations\, including poems by Maya Abu Al-Hayyat\, Asmaa’ Azaizeh\, Ahlam Bisharat\, Laila Al-Sa’ih\, and Fadwa Touqan. Join us to reflect together on theme and structure; to encounter texts in the original Arabic alongside the translations; and to end with a writing prompt inspired by our exploration. \nFormat: Online via Zoom
URL:https://arabishway.com/event/the-almond-blossom-knows-its-life-is-short-poetry-of-palestinian-women-in-translation/
CATEGORIES:Poetry,Workshop
ATTACH;FMTTYPE=image/jpeg:https://arabishway.com/wp-content/uploads/2019/09/lena.jpg
END:VEVENT
END:VCALENDAR