BEGIN:VCALENDAR
VERSION:2.0
PRODID:-//ArabishWay - ECPv6.15.20//NONSGML v1.0//EN
CALSCALE:GREGORIAN
METHOD:PUBLISH
X-WR-CALNAME:ArabishWay
X-ORIGINAL-URL:https://arabishway.com
X-WR-CALDESC:Events for ArabishWay
REFRESH-INTERVAL;VALUE=DURATION:PT1H
X-Robots-Tag:noindex
X-PUBLISHED-TTL:PT1H
BEGIN:VTIMEZONE
TZID:America/Los_Angeles
BEGIN:DAYLIGHT
TZOFFSETFROM:-0800
TZOFFSETTO:-0700
TZNAME:PDT
DTSTART:20200308T100000
END:DAYLIGHT
BEGIN:STANDARD
TZOFFSETFROM:-0700
TZOFFSETTO:-0800
TZNAME:PST
DTSTART:20201101T090000
END:STANDARD
BEGIN:DAYLIGHT
TZOFFSETFROM:-0800
TZOFFSETTO:-0700
TZNAME:PDT
DTSTART:20210314T100000
END:DAYLIGHT
BEGIN:STANDARD
TZOFFSETFROM:-0700
TZOFFSETTO:-0800
TZNAME:PST
DTSTART:20211107T090000
END:STANDARD
BEGIN:DAYLIGHT
TZOFFSETFROM:-0800
TZOFFSETTO:-0700
TZNAME:PDT
DTSTART:20220313T100000
END:DAYLIGHT
BEGIN:STANDARD
TZOFFSETFROM:-0700
TZOFFSETTO:-0800
TZNAME:PST
DTSTART:20221106T090000
END:STANDARD
BEGIN:DAYLIGHT
TZOFFSETFROM:-0800
TZOFFSETTO:-0700
TZNAME:PDT
DTSTART:20230312T100000
END:DAYLIGHT
BEGIN:STANDARD
TZOFFSETFROM:-0700
TZOFFSETTO:-0800
TZNAME:PST
DTSTART:20231105T090000
END:STANDARD
END:VTIMEZONE
BEGIN:VEVENT
DTSTART;VALUE=DATE:20211002
DTEND;VALUE=DATE:20220207
DTSTAMP:20260421T050237
CREATED:20210928T215814Z
LAST-MODIFIED:20210929T193606Z
UID:10001050-1633132800-1644191999@arabishway.com
SUMMARY:Diana Al-Hadid: Archive of Longings:  Exhibition at the Henry Art Gallery
DESCRIPTION:Diana Al-Hadid’s work explores the interplay between the female body and the European art canon; Syrian\, Muslim\, and immigrant histories and mythologies; and architectural icons and the natural world. Born in 1981 in Aleppo\, Syria\, and raised in Cleveland\, Ohio\, Al-Hadid creates artworks that speak to her interest in the melding of cultures and the translation of disparate narratives. This monographic exhibition will consist of a selection of 13 sculptural works made between 2010 and 2021 brought into interpretive grouping for the first time. Together the sculptures identify the artist’s investigation of historical\, mythological\, and biblical narratives of women as a fundamental through-line of her practice.\nWhile Al-Hadid’s work is often interpreted primarily in relation to her interest in the art historical canon\, this show situates the artist’s deployment of these influences as advancing a network of feminist concerns: the female protagonist and its conflicted history\, as well as women’s agency\, power\, and identity. The title refers to the artist’s ongoing interest in the incomplete nature of collective history and the palimpsest of narrative and information that constructs our sense of history; it also resists the monumentalizing (and ultimately\, patriarchal and colonialist) idea of fixity and singularity. Instead\, Al-Hadid foregrounds disruption and rupture in the endlessly woven fabric of our stories of self/the body\, the migration of information and interpretation through space and time\, and the fundamentally unfixed nature of human desire.\nThe exhibition is held in conjunction with the Feminist Art Coalition (FAC)\, a nationwide initiative of art projects that seek to generate cultural awareness of feminist thought\, experience\, and action.\nA brochure with a curatorial essay\, alongside installation images\, will accompany the exhibition.
URL:https://arabishway.com/event/exhibition-diana-al-hadid/
LOCATION:Henry Art Gallery\, 15th Avenue NE + NE 41st Street\, Seattle\, WA\, 98195\, United States
CATEGORIES:Art
ATTACH;FMTTYPE=image/jpeg:https://arabishway.com/wp-content/uploads/2021/09/Diana-Al-Hadid.jpeg
END:VEVENT
BEGIN:VEVENT
DTSTART;VALUE=DATE:20211028
DTEND;VALUE=DATE:20211029
DTSTAMP:20260421T050237
CREATED:20211028T163635Z
LAST-MODIFIED:20211028T163635Z
UID:10001085-1635379200-1635465599@arabishway.com
SUMMARY:Tatreez and Tea: Class Registration: Winter 2022
DESCRIPTION:Join them for the many wonderful Palestinian embroidery programs this Winter term. Click on each program title below to learn more. To join a beginner class\, or learn about other recorded class opportunities\, check out the Winter 2022 registration page. \n\nLecture Series: The Art Historical Timeline of Palestinian Embroidery:\n\nRolling Admission\n\n\nThe Palestine Map Project:\n\nThursdays at 5 pm EST\, begins January 13\n\n\nThe Village Series Thobe Project:\n\nFridays at 12 pm EST\, begins January 7\n\n\nThe Village Series Thobe Project:\n\nThursdays at 7 pm EST\, begins January 13\n\n\nA Treasury of Palestinian Stitches Program:\n\nSaturdays at 2 pm EST\, begins January 8\n\n\nThe Denim Jacket Project:\n\nSaturdays at 12 pm EST\, begins February 12
URL:https://arabishway.com/event/tatreez-and-tea-class-registration-winter-2022/
CATEGORIES:Art,Workshop
ATTACH;FMTTYPE=image/jpeg:https://arabishway.com/wp-content/uploads/2021/01/Tatreez-and-Tea-Smithsonian.jpg
END:VEVENT
BEGIN:VEVENT
DTSTART;VALUE=DATE:20211028
DTEND;VALUE=DATE:20211108
DTSTAMP:20260421T050237
CREATED:20211026T175221Z
LAST-MODIFIED:20211026T175221Z
UID:10001076-1635379200-1636329599@arabishway.com
SUMMARY:Rendezvous with Madness Festival
DESCRIPTION:Join Workman Arts and us for the virtual screening of As I Want\, directed by Samaher Alqadi. This Rendezvous with Madness film program will be available for online viewing from October 29th to November 7th. As I Want documents the women’s rebellion in Egypt on the second anniversary of the revolution –  along the way Alqadi re-examines societal constructs of her own childhood in Palestine and what it means to be a woman and mother in the Middle East. \nFOR TICKETS AND MORE INFORMATION \nJOIN THE CONVERSATION: Q&A\nWatch a pre-recorded Q&A with the director of As I Want\, Samaher Alqadi and the director of\nWe Have Not Come Here to Die\, Deepa Dhanraj. Conversation moderated by filmmaker and film\nprogrammer Aisha Jamal and available at the same link as the film.
URL:https://arabishway.com/event/rendezvous-with-madness-festival/
CATEGORIES:Lecture,Movie
ATTACH;FMTTYPE=image/jpeg:https://arabishway.com/wp-content/uploads/2021/10/as-I-want.jpeg
END:VEVENT
BEGIN:VEVENT
DTSTART;TZID=America/Los_Angeles:20211028T063000
DTEND;TZID=America/Los_Angeles:20211028T083000
DTSTAMP:20260421T050237
CREATED:20210929T182130Z
LAST-MODIFIED:20210929T182130Z
UID:10001065-1635402600-1635409800@arabishway.com
SUMMARY:Smithsonian National Youth Summit: Gender Equity Through the Arab American Perspective
DESCRIPTION:Virtual event\nFREE with RSVP \nIn partnership with the Smithsonian Institute\, AANM is pleased to be a host of the National Youth Summit. The National Youth Summit hosts conversations about important events in America’s past that have relevance to the nation’s present and future. This year’s theme focuses on gender equity. \nHigh school classrooms and students are invited to join us for an interactive conversation on what gender equity looks like through Arab American eyes. We aim to discuss the history of gender equity in the Arab world and among the Arab American community\, the intersectionality of class\, religion and generations play\, and what the future of gender equity looks like. \nClassrooms are welcome to join for a piece of program or stay until the end! \nFor questions\, e-mail Dave Serio at dserio “at” accesscommunity.org
URL:https://arabishway.com/event/smithsonian-national-youth-summit-gender-equity-through-the-arab-american-perspective/
CATEGORIES:Social Justice,Workshop
ATTACH;FMTTYPE=image/png:https://arabishway.com/wp-content/uploads/2021/09/NYS2021-Title-and-Social-Graphics_Website-2048x1217-1.png
END:VEVENT
BEGIN:VEVENT
DTSTART;TZID=America/Los_Angeles:20211028T190000
DTEND;TZID=America/Los_Angeles:20211028T200000
DTSTAMP:20260421T050237
CREATED:20210928T200512Z
LAST-MODIFIED:20210928T200548Z
UID:10001041-1635447600-1635451200@arabishway.com
SUMMARY:Virtual Arabic: Meetup
DESCRIPTION:Whether you’re a native speaker or learner\, this is a great chance to practice listening and speaking in Arabic!
URL:https://arabishway.com/event/virtual-arabic-meetup-oct-28/
CATEGORIES:Gathering,Language
ATTACH;FMTTYPE=image/png:https://arabishway.com/wp-content/uploads/2019/09/Arabic-Language-Meetup.png
END:VEVENT
END:VCALENDAR