BEGIN:VCALENDAR
VERSION:2.0
PRODID:-//ArabishWay - ECPv6.15.20//NONSGML v1.0//EN
CALSCALE:GREGORIAN
METHOD:PUBLISH
X-ORIGINAL-URL:https://arabishway.com
X-WR-CALDESC:Events for ArabishWay
REFRESH-INTERVAL;VALUE=DURATION:PT1H
X-Robots-Tag:noindex
X-PUBLISHED-TTL:PT1H
BEGIN:VTIMEZONE
TZID:America/Los_Angeles
BEGIN:DAYLIGHT
TZOFFSETFROM:-0800
TZOFFSETTO:-0700
TZNAME:PDT
DTSTART:20200308T100000
END:DAYLIGHT
BEGIN:STANDARD
TZOFFSETFROM:-0700
TZOFFSETTO:-0800
TZNAME:PST
DTSTART:20201101T090000
END:STANDARD
BEGIN:DAYLIGHT
TZOFFSETFROM:-0800
TZOFFSETTO:-0700
TZNAME:PDT
DTSTART:20210314T100000
END:DAYLIGHT
BEGIN:STANDARD
TZOFFSETFROM:-0700
TZOFFSETTO:-0800
TZNAME:PST
DTSTART:20211107T090000
END:STANDARD
BEGIN:DAYLIGHT
TZOFFSETFROM:-0800
TZOFFSETTO:-0700
TZNAME:PDT
DTSTART:20220313T100000
END:DAYLIGHT
BEGIN:STANDARD
TZOFFSETFROM:-0700
TZOFFSETTO:-0800
TZNAME:PST
DTSTART:20221106T090000
END:STANDARD
BEGIN:DAYLIGHT
TZOFFSETFROM:-0800
TZOFFSETTO:-0700
TZNAME:PDT
DTSTART:20230312T100000
END:DAYLIGHT
BEGIN:STANDARD
TZOFFSETFROM:-0700
TZOFFSETTO:-0800
TZNAME:PST
DTSTART:20231105T090000
END:STANDARD
END:VTIMEZONE
BEGIN:VEVENT
DTSTART;VALUE=DATE:20211002
DTEND;VALUE=DATE:20220207
DTSTAMP:20260421T050409
CREATED:20210928T215814Z
LAST-MODIFIED:20210929T193606Z
UID:10001050-1633132800-1644191999@arabishway.com
SUMMARY:Diana Al-Hadid: Archive of Longings:  Exhibition at the Henry Art Gallery
DESCRIPTION:Diana Al-Hadid’s work explores the interplay between the female body and the European art canon; Syrian\, Muslim\, and immigrant histories and mythologies; and architectural icons and the natural world. Born in 1981 in Aleppo\, Syria\, and raised in Cleveland\, Ohio\, Al-Hadid creates artworks that speak to her interest in the melding of cultures and the translation of disparate narratives. This monographic exhibition will consist of a selection of 13 sculptural works made between 2010 and 2021 brought into interpretive grouping for the first time. Together the sculptures identify the artist’s investigation of historical\, mythological\, and biblical narratives of women as a fundamental through-line of her practice.\nWhile Al-Hadid’s work is often interpreted primarily in relation to her interest in the art historical canon\, this show situates the artist’s deployment of these influences as advancing a network of feminist concerns: the female protagonist and its conflicted history\, as well as women’s agency\, power\, and identity. The title refers to the artist’s ongoing interest in the incomplete nature of collective history and the palimpsest of narrative and information that constructs our sense of history; it also resists the monumentalizing (and ultimately\, patriarchal and colonialist) idea of fixity and singularity. Instead\, Al-Hadid foregrounds disruption and rupture in the endlessly woven fabric of our stories of self/the body\, the migration of information and interpretation through space and time\, and the fundamentally unfixed nature of human desire.\nThe exhibition is held in conjunction with the Feminist Art Coalition (FAC)\, a nationwide initiative of art projects that seek to generate cultural awareness of feminist thought\, experience\, and action.\nA brochure with a curatorial essay\, alongside installation images\, will accompany the exhibition.
URL:https://arabishway.com/event/exhibition-diana-al-hadid/
LOCATION:Henry Art Gallery\, 15th Avenue NE + NE 41st Street\, Seattle\, WA\, 98195\, United States
CATEGORIES:Art
ATTACH;FMTTYPE=image/jpeg:https://arabishway.com/wp-content/uploads/2021/09/Diana-Al-Hadid.jpeg
END:VEVENT
BEGIN:VEVENT
DTSTART;TZID=America/Los_Angeles:20211022T193000
DTEND;TZID=America/Los_Angeles:20211022T210000
DTSTAMP:20260421T050409
CREATED:20210928T214913Z
LAST-MODIFIED:20210928T215012Z
UID:10001047-1634931000-1634936400@arabishway.com
SUMMARY:Bassem Yousef at the Tacoma Comedy Club - 2 Shows
DESCRIPTION:Bassem Youssef\, dubbed the Jon Stewart of the Arab World\, was the host of popular TV show AlBernameg – which was the first of its kind political satire show in the Middle East. Originally a 5-minute show on YouTube\, AlBernameg became the first online to TV conversion in the Middle East and the most watched show across the region with 30 million viewers every week. \nTwo showings:  7:30pm and 10:30pm \nTickets: $25-$35 \n\nSeats only guaranteed until showtime. Ticket price is more expensive at the door (if any remain).\nPremium seating is in the front row of the balcony\, and front two rows directly in front of the stage. General Admission is first come\, first serve.\nMost of our tables seat 4 people\, so purchasing 4 or more tickets is the only way to ensure a table to yourself.\nThere are no refunds on any ticket purchases.\n2-item minimum in showroom. This means each person must purchase 2 items off the menu. This can be an alcoholic\, or non-alcoholic drink\, or any of our food items.\n\nShow/Doors Times \n\n7:30 PM Show/6:30 PM Doors\n10:30 PM Show/9:45 PM Doors
URL:https://arabishway.com/event/bassem-yousef-at-the-tacoma-comedy-club/
LOCATION:Tacoma Comedy Club\, 933 Market St\, Tacoma\, Washington\, 98402\, United States
CATEGORIES:Comedy
ATTACH;FMTTYPE=image/png:https://arabishway.com/wp-content/uploads/2021/09/Bassem-Yousef.png
END:VEVENT
BEGIN:VEVENT
DTSTART;TZID=America/Los_Angeles:20211022T210000
DTEND;TZID=America/Los_Angeles:20211022T230000
DTSTAMP:20260421T050409
CREATED:20210929T014301Z
LAST-MODIFIED:20210929T014301Z
UID:10001058-1634936400-1634943600@arabishway.com
SUMMARY:Tinariwen at the Showbox
DESCRIPTION:The best Tinariwen album hasn’t been recorded yet. Perhaps it never will be. Because the best Tinariwen music isn’t the music they perform in front of microphones. It’s the music they play at night around the fire\, back in their own country\, amongst themselves and at their own pace. Having eaten\, and drunk their tea\, the men bring out their guitars\, chat\, remember old songs and let the music come. In those moments\, the music can become like the fire\, free\, magical and impossible to stuff into a box. It rises up like a shower of sparks or a state of grace\, without premeditation; the momentary manifestation of a friendship\, a community\, an environment\, a history; the revelatory connection with something that belongs only to them\, and goes beyond them. Their discography stretching out over the last 17 years\, all the tours and the international recognition have changed nothing: Tinariwen are still a desert band\, only certain aspects of which the western music industry can ever hope to capture and present. Tinariwen existed long before any of their albums were recorded\, and they still exist quite distinct from their discographic dimension. So\, the best Tinariwen album doesn’t exist. But it’s still worth trying to go and find it.
URL:https://arabishway.com/event/tinariwen-at-the-showbox/
LOCATION:The Showbox\, 1426 1st Avenue\, Seattle\, WA\, 98101\, United States
CATEGORIES:Music
ATTACH;FMTTYPE=image/jpeg:https://arabishway.com/wp-content/uploads/2021/09/Tinariwen.jpeg
END:VEVENT
END:VCALENDAR