BEGIN:VCALENDAR
VERSION:2.0
PRODID:-//ArabishWay - ECPv6.15.20//NONSGML v1.0//EN
CALSCALE:GREGORIAN
METHOD:PUBLISH
X-WR-CALNAME:ArabishWay
X-ORIGINAL-URL:https://arabishway.com
X-WR-CALDESC:Events for ArabishWay
REFRESH-INTERVAL;VALUE=DURATION:PT1H
X-Robots-Tag:noindex
X-PUBLISHED-TTL:PT1H
BEGIN:VTIMEZONE
TZID:America/Los_Angeles
BEGIN:DAYLIGHT
TZOFFSETFROM:-0800
TZOFFSETTO:-0700
TZNAME:PDT
DTSTART:20200308T100000
END:DAYLIGHT
BEGIN:STANDARD
TZOFFSETFROM:-0700
TZOFFSETTO:-0800
TZNAME:PST
DTSTART:20201101T090000
END:STANDARD
BEGIN:DAYLIGHT
TZOFFSETFROM:-0800
TZOFFSETTO:-0700
TZNAME:PDT
DTSTART:20210314T100000
END:DAYLIGHT
BEGIN:STANDARD
TZOFFSETFROM:-0700
TZOFFSETTO:-0800
TZNAME:PST
DTSTART:20211107T090000
END:STANDARD
BEGIN:DAYLIGHT
TZOFFSETFROM:-0800
TZOFFSETTO:-0700
TZNAME:PDT
DTSTART:20220313T100000
END:DAYLIGHT
BEGIN:STANDARD
TZOFFSETFROM:-0700
TZOFFSETTO:-0800
TZNAME:PST
DTSTART:20221106T090000
END:STANDARD
END:VTIMEZONE
BEGIN:VEVENT
DTSTART;VALUE=DATE:20210518
DTEND;VALUE=DATE:20210708
DTSTAMP:20260420T051223
CREATED:20210630T032701Z
LAST-MODIFIED:20210630T032701Z
UID:10000957-1621296000-1625702399@arabishway.com
SUMMARY:Amir Zaki "Empty Vessel" - Online Exhibition
DESCRIPTION:James Harris Gallery is pleased to present our seventh exhibition by California artist Amir Zaki. Comprised of two bodies of work\, collectively entitled\, “Empty Vessel\,” the series features striking colorful photographs of both skateboard parks and broken ceramic vases. Together\, these images open a discussion of the history and future of photography and duplicitous version of truth in the modern world. In his work\, Zaki strives to disrupt common notions of authenticity\, monumentality\, and documentation through a hybridization of techniques. The two disparate series are connected through real and fictive space illuminating the truth between the everyday and the ideal. The gallery will mount virtual exhibitions until the next location of our physical space is announced in the fall of 2021. \nDownload the press release \n\n\n\n\n\n\nWORKS IN SHOW\nABOUT THE ARTIST\n\n\n\n\n\n\n\n\nAmir Zaki\nA firm believer in the transformative power of the photographic image\, Zaki images are rooted in the history of the medium and uses it to shed light on the means of representation. Over the last 16 years\, Zaki has pushed the physicality of the photograph’s two dimensional construct\, allowing it to exist on its own and also exploring its own object-ness.   In order to capture and record the original site\, Zaki’s representations depict the complexity of place in terms of interactive evolving experience\, an ongoing ecological intervention. The artist responds to the shifting contemporary landscape where nothing is permanent\, constructing his own visual language to illustrate an entire mythology of place. \nAmir Zaki lives and works in Southern California. He received his MFA from UCLA in 1999 and has been exhibiting nationally and internationally since graduating. He is a full professor at the University of California at Riverside. His work is included in many museum collections including the Hammer Museum of Art\, Los Angeles County Museum of Art\, New Museum of Contemporary Art\, Orange County Museum of Art\, Santa Barbara Museum of Art\, and the Whitney Museum of American Art\, among others.
URL:https://arabishway.com/event/amir-zaki-empty-vessel-online-exhibition/
CATEGORIES:Art
ATTACH;FMTTYPE=image/jpeg:https://arabishway.com/wp-content/uploads/2021/06/Amir-Zaki.jpeg
END:VEVENT
BEGIN:VEVENT
DTSTART;VALUE=DATE:20210605
DTEND;VALUE=DATE:20210620
DTSTAMP:20260420T051223
CREATED:20210609T174747Z
LAST-MODIFIED:20210609T174747Z
UID:10000940-1622851200-1624147199@arabishway.com
SUMMARY:Short Films - San Diego Arab Film Festival
DESCRIPTION:Short Films\nThis year the Festival  offers 16 films from across the Arab world and the Diaspora headlined by the Academy Award nominated film from Palestine\, The Present\, representing a range of styles and genres\, including narrative drama and comedy\, documentary\, animated and experimental films.  These films can be streamed at SanDiegoaff.sparqfest.live. \nThe final line up includes films that have been screened at Cannes and Venice as well as other international festivals.  They will be available for viewing at your leisure beginning on June 5 and continuing through June 19. \nClick here for more information about the films and streaming.
URL:https://arabishway.com/event/short-films-san-diego-arab-film-festival/
CATEGORIES:Movie
ATTACH;FMTTYPE=image/jpeg:https://arabishway.com/wp-content/uploads/2021/06/sdaff-Logo-Final-new-color-r-2-1024x232-1.jpeg
END:VEVENT
BEGIN:VEVENT
DTSTART;TZID=America/Los_Angeles:20210608T090000
DTEND;TZID=America/Los_Angeles:20210608T100000
DTSTAMP:20260420T051223
CREATED:20210428T173557Z
LAST-MODIFIED:20210428T173557Z
UID:10000903-1623142800-1623146400@arabishway.com
SUMMARY:Poet Hayan Charara [afikra Conversations]
DESCRIPTION:Join us as we interview poet Hayan Charara on our afikra Conversations series on June 8. \n  \nHayan Charara is a poet\, children’s book author\, essayist\, and editor. His poetry books are Something Sinister (2016)\, The Sadness of Others (2006)\, The Alchemist’s Diary (2001)\, and the forthcoming These Trees\, Those Leaves\, This Flower\, That Fruit (2022). His children’s book\, The Three Lucys (2016)\, received the New Voices Award Honor. He also edited Inclined to Speak (2008)\, an anthology of contemporary Arab American poetry with Fady Joudah. He is also a series editor of the Etel Adnan Poetry Prize. His honors include a literature fellowship from the National Endowment for the Arts\, the Lucille Joy Prize in Poetry from the University of Houston Creative Writing Program\, the John Clare Prize\, and the Arab American Book Award. Additionally\, he has taught at a number of colleges and universities\, including Queens College\, Jersey City University\, the City University of New York-La Guardia\, the University of Texas at Austin\, Trinity University\, and Our Lady of the Lake University. He currently teaches in the Honors College and the Creative Writing Program at the University of Houston. \nafikra has a series of fabulous interviews that can be found here: https://www.afikra.com/events/
URL:https://arabishway.com/event/poet-hayan-charara-afikra-conversations/
CATEGORIES:Poetry
ATTACH;FMTTYPE=image/png:https://arabishway.com/wp-content/uploads/2021/04/Charara.png
END:VEVENT
END:VCALENDAR